BEGIN:VCALENDAR
VERSION:2.0
PRODID:-//eventon.com NONSGML v1.0//EN
CALSCALE:GREGORIAN
METHOD:PUBLISH
BEGIN:VEVENT
UID:69e738d097aa9
DTSTAMP:20260421T084400Z
DTSTART:20240114T163100Z
DTEND:20240114T163100Z
LOCATION:
SUMMARY:Provence Verte Verdon
DESCRIPTION:\nhttps://festivalenviedailleurs.com/events/provence-verte-verd
 on/
URL:https://festivalenviedailleurs.com/events/provence-verte-verdon/
END:VEVENT
END:VCALENDAR