BEGIN:VCALENDAR
VERSION:2.0
PRODID:-//eventon.com NONSGML v1.0//EN
CALSCALE:GREGORIAN
METHOD:PUBLISH
BEGIN:VEVENT
UID:69ea881cdba0b
DTSTAMP:20260423T205908Z
DTSTART:20240413T080000Z
DTEND:20240414T150000Z
LOCATION:
SUMMARY:Alpes d'Azur
DESCRIPTION:\nhttps://festivalenviedailleurs.com/events/alpes-dazur/
URL:https://festivalenviedailleurs.com/events/alpes-dazur/
END:VEVENT
END:VCALENDAR