BEGIN:VCALENDAR
VERSION:2.0
PRODID:-//eventon.com NONSGML v1.0//EN
CALSCALE:GREGORIAN
METHOD:PUBLISH
BEGIN:VEVENT
UID:69e4d2ea20981
DTSTAMP:20260419T130442Z
DTSTART:20250419T080000Z
DTEND:20250421T150000Z
LOCATION:
SUMMARY:Xplora
DESCRIPTION:Xplora est une marque franÃ§aise spÃ©cialisÃ©e dans la producti
 on de camping-cars tout-terrain de haute qualitÃ© conÃ§us pour offrir un es
 pace de vie confortable et pratique tout en explorant des terrains Ã©loignÃ
 ©s et difficiles. Ils sont construits pour rÃ©sister aux rigueurs du tout-t
 errain et offrent un niveau de confort et de[..]\nhttps://festivalenviedail
 leurs.com/events/xplora/
URL:https://festivalenviedailleurs.com/events/xplora/
END:VEVENT
END:VCALENDAR