BEGIN:VCALENDAR
VERSION:2.0
PRODID:-//eventon.com NONSGML v1.0//EN
CALSCALE:GREGORIAN
METHOD:PUBLISH
BEGIN:VEVENT
UID:69eb614d4ba25
DTSTAMP:20260424T122549Z
DTSTART:20260328T090000Z
DTEND:20250329T160000Z
LOCATION:Salle Leo Lagrange 198\,  allée des écoles - 06370 Mouans-Sartoux
SUMMARY:NOS AVENTURES NOMADES
DESCRIPTION:Nous\,  c&rsquo;est Marjo &amp; Fred \,  passionnés de roadtri
 p depuis 6 ans en van California T6.1 et en Tip Top teardrop avec nos 3 enf
 ants Rachel 18 ans\,  Axel 12 ans et Emma 4 ans sans oublier notre chat Lé
 onard. Passionnés par les véhicules de loisirs\,  nous retapons des carav
 anes[..]\nhttps://festivalenviedailleurs.com/events/graine-daventurier/
URL:https://festivalenviedailleurs.com/events/graine-daventurier/
END:VEVENT
END:VCALENDAR